BEGIN:VCALENDAR
VERSION:2.0
PRODID:-//The Network - ECPv6.13.0//NONSGML v1.0//EN
CALSCALE:GREGORIAN
METHOD:PUBLISH
X-ORIGINAL-URL:https://m.reincanada.com
X-WR-CALDESC:Events for The Network
REFRESH-INTERVAL;VALUE=DURATION:PT1H
X-Robots-Tag:noindex
X-PUBLISHED-TTL:PT1H
BEGIN:VTIMEZONE
TZID:America/Toronto
BEGIN:DAYLIGHT
TZOFFSETFROM:-0500
TZOFFSETTO:-0400
TZNAME:EDT
DTSTART:20260308T070000
END:DAYLIGHT
BEGIN:STANDARD
TZOFFSETFROM:-0400
TZOFFSETTO:-0500
TZNAME:EST
DTSTART:20261101T060000
END:STANDARD
END:VTIMEZONE
BEGIN:VEVENT
DTSTART;TZID=America/Toronto:20260501T000000
DTEND;TZID=America/Toronto:20260503T000000
DTSTAMP:20260419T235131
CREATED:20260414T174112Z
LAST-MODIFIED:20260414T174136Z
UID:21813-1777593600-1777766400@m.reincanada.com
SUMMARY:WealthGenius EXPAND Investor Conference
DESCRIPTION:Get ready for the ultimate investor conference\, EXPAND\, where you’ll enjoy three days of insightful sessions & networking opportunities. \n📍 Ottawa\, Ontario Canada\n🗓 May 1-3 2026 \nSTAY TUNED – Exact venue will be announced soon \nGet tickets \nGet tickets with Gala
URL:https://m.reincanada.com/event/wealthgenius-expand-investor-conference-ottawa-may-2026/
CATEGORIES:Live In-Person Events
ATTACH;FMTTYPE=image/webp:https://m.reincanada.com/wp-content/uploads/2026/04/wg-expand-may-2026.webp
END:VEVENT
END:VCALENDAR