BEGIN:VCALENDAR
VERSION:2.0
PRODID:-//The Network - ECPv6.13.0//NONSGML v1.0//EN
CALSCALE:GREGORIAN
METHOD:PUBLISH
X-WR-CALNAME:The Network
X-ORIGINAL-URL:https://m.reincanada.com
X-WR-CALDESC:Events for The Network
REFRESH-INTERVAL;VALUE=DURATION:PT1H
X-Robots-Tag:noindex
X-PUBLISHED-TTL:PT1H
BEGIN:VTIMEZONE
TZID:America/Toronto
BEGIN:DAYLIGHT
TZOFFSETFROM:-0500
TZOFFSETTO:-0400
TZNAME:EDT
DTSTART:20230312T070000
END:DAYLIGHT
BEGIN:STANDARD
TZOFFSETFROM:-0400
TZOFFSETTO:-0500
TZNAME:EST
DTSTART:20231105T060000
END:STANDARD
END:VTIMEZONE
BEGIN:VTIMEZONE
TZID:America/Los_Angeles
BEGIN:DAYLIGHT
TZOFFSETFROM:-0800
TZOFFSETTO:-0700
TZNAME:PDT
DTSTART:20230312T100000
END:DAYLIGHT
BEGIN:STANDARD
TZOFFSETFROM:-0700
TZOFFSETTO:-0800
TZNAME:PST
DTSTART:20231105T090000
END:STANDARD
END:VTIMEZONE
BEGIN:VEVENT
DTSTART;TZID=America/Toronto:20230914T190000
DTEND;TZID=America/Toronto:20230914T203000
DTSTAMP:20260419T101553
CREATED:20230511T144342Z
LAST-MODIFIED:20231114T225817Z
UID:11827-1694718000-1694723400@m.reincanada.com
SUMMARY:East Coast Virtual Member Meeting
DESCRIPTION:
URL:https://m.reincanada.com/event/coaching-mentoring-meeting-east-september-2023-2/
CATEGORIES:Coaching & Mentorship Meeting
ATTACH;FMTTYPE=image/png:https://m.reincanada.com/wp-content/uploads/2023/09/Virtual-Member-Meeting.png
END:VEVENT
BEGIN:VEVENT
DTSTART;TZID=America/Los_Angeles:20230927T183000
DTEND;TZID=America/Los_Angeles:20230927T213000
DTSTAMP:20260419T101553
CREATED:20230511T144353Z
LAST-MODIFIED:20230919T224825Z
UID:11828-1695839400-1695850200@m.reincanada.com
SUMMARY:BC Live Member Meeting: Sandman Signature Langley with Randy Dyck
DESCRIPTION:Stay tuned for more details for this event.
URL:https://m.reincanada.com/event/bc-live-member-meeting-sandman-signature-langley-with-randy-dyck/
CATEGORIES:Coaching & Mentorship Meeting
ATTACH;FMTTYPE=image/jpeg:https://m.reincanada.com/wp-content/uploads/2022/06/REIN-Coaching-Mentoring-Web1920-3_081821-1tM4jU.tmp_.jpg
END:VEVENT
END:VCALENDAR