BEGIN:VCALENDAR
VERSION:2.0
PRODID:-//The Network - ECPv6.13.0//NONSGML v1.0//EN
CALSCALE:GREGORIAN
METHOD:PUBLISH
X-ORIGINAL-URL:https://m.reincanada.com
X-WR-CALDESC:Events for The Network
REFRESH-INTERVAL;VALUE=DURATION:PT1H
X-Robots-Tag:noindex
X-PUBLISHED-TTL:PT1H
BEGIN:VTIMEZONE
TZID:America/Toronto
BEGIN:DAYLIGHT
TZOFFSETFROM:-0500
TZOFFSETTO:-0400
TZNAME:EDT
DTSTART:20220313T070000
END:DAYLIGHT
BEGIN:STANDARD
TZOFFSETFROM:-0400
TZOFFSETTO:-0500
TZNAME:EST
DTSTART:20221106T060000
END:STANDARD
END:VTIMEZONE
BEGIN:VEVENT
DTSTART;TZID=America/Toronto:20221109T210000
DTEND;TZID=America/Toronto:20221109T235500
DTSTAMP:20260420T001719
CREATED:20220620T225133Z
LAST-MODIFIED:20221004T182739Z
UID:4452-1668027600-1668038100@m.reincanada.com
SUMMARY:Coaching & Mentoring Meeting (West)
DESCRIPTION:
URL:https://m.reincanada.com/event/coaching-mentoring-meeting-west-2/
CATEGORIES:Coaching & Mentorship Meeting
ATTACH;FMTTYPE=image/jpeg:https://m.reincanada.com/wp-content/uploads/2022/06/REIN-Coaching-Mentoring-Web1920-3_081821-1tM4jU.tmp_.jpg
END:VEVENT
BEGIN:VEVENT
DTSTART;TZID=America/Toronto:20221110T190000
DTEND;TZID=America/Toronto:20221110T220000
DTSTAMP:20260420T001719
CREATED:20220620T225133Z
LAST-MODIFIED:20221004T182727Z
UID:4451-1668106800-1668117600@m.reincanada.com
SUMMARY:Coaching & Mentoring Meeting (East)
DESCRIPTION:
URL:https://m.reincanada.com/event/coaching-mentoring-meeting-east-2/
CATEGORIES:Coaching & Mentorship Meeting
ATTACH;FMTTYPE=image/jpeg:https://m.reincanada.com/wp-content/uploads/2022/06/REIN-Coaching-Mentoring-Web1920-3_081821-1tM4jU.tmp_.jpg
END:VEVENT
END:VCALENDAR