BEGIN:VCALENDAR
VERSION:2.0
PRODID:-//The Network - ECPv6.13.0//NONSGML v1.0//EN
CALSCALE:GREGORIAN
METHOD:PUBLISH
X-ORIGINAL-URL:https://m.reincanada.com
X-WR-CALDESC:Events for The Network
REFRESH-INTERVAL;VALUE=DURATION:PT1H
X-Robots-Tag:noindex
X-PUBLISHED-TTL:PT1H
BEGIN:VTIMEZONE
TZID:America/Toronto
BEGIN:DAYLIGHT
TZOFFSETFROM:-0500
TZOFFSETTO:-0400
TZNAME:EDT
DTSTART:20220313T070000
END:DAYLIGHT
BEGIN:STANDARD
TZOFFSETFROM:-0400
TZOFFSETTO:-0500
TZNAME:EST
DTSTART:20221106T060000
END:STANDARD
END:VTIMEZONE
BEGIN:VEVENT
DTSTART;TZID=America/Toronto:20220209T190000
DTEND;TZID=America/Toronto:20220209T230000
DTSTAMP:20260420T141515
CREATED:20220620T225736Z
LAST-MODIFIED:20220711T150615Z
UID:4468-1644433200-1644447600@m.reincanada.com
SUMMARY:Coaching & Mentoring Meeting (West)
DESCRIPTION:
URL:https://m.reincanada.com/event/coaching-mentoring-meeting-west-8/
CATEGORIES:Coaching & Mentorship Meeting
ATTACH;FMTTYPE=image/jpeg:https://m.reincanada.com/wp-content/uploads/2022/06/REIN-Coaching-Mentoring-Web1920-3_081821-1tM4jU.tmp_.jpg
END:VEVENT
BEGIN:VEVENT
DTSTART;TZID=America/Toronto:20220210T190000
DTEND;TZID=America/Toronto:20220210T230000
DTSTAMP:20260420T141515
CREATED:20220620T225736Z
LAST-MODIFIED:20220711T150606Z
UID:4467-1644519600-1644534000@m.reincanada.com
SUMMARY:Coaching & Mentoring Meeting (East)
DESCRIPTION:
URL:https://m.reincanada.com/event/coaching-mentoring-meeting-east-8/
CATEGORIES:Coaching & Mentorship Meeting
ATTACH;FMTTYPE=image/jpeg:https://m.reincanada.com/wp-content/uploads/2022/06/REIN-Coaching-Mentoring-Web1920-3_081821-1tM4jU.tmp_.jpg
END:VEVENT
END:VCALENDAR