BEGIN:VCALENDAR
VERSION:2.0
PRODID:-//The Network - ECPv6.13.0//NONSGML v1.0//EN
CALSCALE:GREGORIAN
METHOD:PUBLISH
X-WR-CALNAME:The Network
X-ORIGINAL-URL:https://m.reincanada.com
X-WR-CALDESC:Events for The Network
REFRESH-INTERVAL;VALUE=DURATION:PT1H
X-Robots-Tag:noindex
X-PUBLISHED-TTL:PT1H
BEGIN:VTIMEZONE
TZID:America/Toronto
BEGIN:DAYLIGHT
TZOFFSETFROM:-0500
TZOFFSETTO:-0400
TZNAME:EDT
DTSTART:20240310T070000
END:DAYLIGHT
BEGIN:STANDARD
TZOFFSETFROM:-0400
TZOFFSETTO:-0500
TZNAME:EST
DTSTART:20241103T060000
END:STANDARD
END:VTIMEZONE
BEGIN:VEVENT
DTSTART;TZID=America/Toronto:20241215T080000
DTEND;TZID=America/Toronto:20241215T190000
DTSTAMP:20260419T223625
CREATED:20241129T174252Z
LAST-MODIFIED:20241129T174252Z
UID:18433-1734249600-1734289200@m.reincanada.com
SUMMARY:WealthGenius EXPAND Investor Conference - Day 3
DESCRIPTION:Get ready for the ultimate investor conference where you’ll enjoy days of insightful sessions\, networking opportunities & lively discussions
URL:https://m.reincanada.com/event/wealthgenius-expand-investor-conference-day-3/
CATEGORIES:Live In-Person Events
ATTACH;FMTTYPE=image/png:https://m.reincanada.com/wp-content/uploads/2024/11/expand-dec-2024.png
END:VEVENT
END:VCALENDAR