BEGIN:VCALENDAR
VERSION:2.0
PRODID:-//The Network - ECPv6.13.0//NONSGML v1.0//EN
CALSCALE:GREGORIAN
METHOD:PUBLISH
X-WR-CALNAME:The Network
X-ORIGINAL-URL:https://m.reincanada.com
X-WR-CALDESC:Events for The Network
REFRESH-INTERVAL;VALUE=DURATION:PT1H
X-Robots-Tag:noindex
X-PUBLISHED-TTL:PT1H
BEGIN:VTIMEZONE
TZID:America/Los_Angeles
BEGIN:DAYLIGHT
TZOFFSETFROM:-0800
TZOFFSETTO:-0700
TZNAME:PDT
DTSTART:20230312T100000
END:DAYLIGHT
BEGIN:STANDARD
TZOFFSETFROM:-0700
TZOFFSETTO:-0800
TZNAME:PST
DTSTART:20231105T090000
END:STANDARD
END:VTIMEZONE
BEGIN:VEVENT
DTSTART;TZID=America/Los_Angeles:20230412T180000
DTEND;TZID=America/Los_Angeles:20230412T210000
DTSTAMP:20260419T170403
CREATED:20221202T202133Z
LAST-MODIFIED:20230728T211805Z
UID:9220-1681322400-1681333200@m.reincanada.com
SUMMARY:Coaching & Mentoring Meeting (West)
DESCRIPTION:
URL:https://m.reincanada.com/event/coaching-mentoring-meeting-west-11-2-2/
CATEGORIES:Coaching & Mentorship Meeting
ATTACH;FMTTYPE=image/jpeg:https://m.reincanada.com/wp-content/uploads/2022/06/REIN-Coaching-Mentoring-Web1920-3_081821-1tM4jU.tmp_.jpg
END:VEVENT
END:VCALENDAR